BEGIN:VCALENDAR
VERSION:2.0
PRODID:-//Jidelny.cz//Kalendář událostí//EN
CALSCALE:GREGORIAN
METHOD:PUBLISH
BEGIN:VTIMEZONE
TZID:America/New_York
BEGIN:STANDARD
DTSTART:20241103T060000
TZOFFSETTO:-0500
TZOFFSETFROM:-0400
RRULE:FREQ=YEARLY;BYMONTH=11;BYDAY=1SU
END:STANDARD
BEGIN:DAYLIGHT
DTSTART:20240310T070000
TZOFFSETTO:-0400
TZOFFSETFROM:-0500
RRULE:FREQ=YEARLY;BYMONTH=3;BYDAY=2SU
END:DAYLIGHT
END:VTIMEZONE
BEGIN:VEVENT
UID:a5e13d9f404e6280d1fb64d498b382217a352701
DTSTART:20240822T090000
DTEND:20240822T110000
SUMMARY:Jak správně provést kalkulaci cen jídel
DESCRIPTION:
URL:https://jidelny.cz/e-learning/jak-spravne-provest-kalkulaci-cen-ji
 del-2/
DTSTAMP:20260421T082503Z
END:VEVENT
END:VCALENDAR
