BEGIN:VCALENDAR
VERSION:2.0
PRODID:-//Jidelny.cz//Kalendář událostí//EN
CALSCALE:GREGORIAN
METHOD:PUBLISH
BEGIN:VTIMEZONE
TZID:America/New_York
BEGIN:STANDARD
DTSTART:20241103T060000
TZOFFSETTO:-0500
TZOFFSETFROM:-0400
RRULE:FREQ=YEARLY;BYMONTH=11;BYDAY=1SU
END:STANDARD
BEGIN:DAYLIGHT
DTSTART:20240310T070000
TZOFFSETTO:-0400
TZOFFSETFROM:-0500
RRULE:FREQ=YEARLY;BYMONTH=3;BYDAY=2SU
END:DAYLIGHT
END:VTIMEZONE
BEGIN:VEVENT
UID:1deb524794c44b7b4e80477a21abc1c835dc889a
DTSTART:20240927T090000
DTEND:20240927T110000
SUMMARY:Zamrazování aneb výroba polotovarů
DESCRIPTION:
URL:https://jidelny.cz/e-learning/zamrazovani-aneb-vyroba-polotovaru-3/
DTSTAMP:20260421T084215Z
END:VEVENT
END:VCALENDAR
