BEGIN:VCALENDAR
VERSION:2.0
PRODID:-//Jidelny.cz//Kalendář událostí//EN
CALSCALE:GREGORIAN
METHOD:PUBLISH
BEGIN:VTIMEZONE
TZID:America/New_York
BEGIN:STANDARD
DTSTART:20251102T060000
TZOFFSETTO:-0500
TZOFFSETFROM:-0400
RRULE:FREQ=YEARLY;BYMONTH=11;BYDAY=1SU
END:STANDARD
BEGIN:DAYLIGHT
DTSTART:20250309T070000
TZOFFSETTO:-0400
TZOFFSETFROM:-0500
RRULE:FREQ=YEARLY;BYMONTH=3;BYDAY=2SU
END:DAYLIGHT
END:VTIMEZONE
BEGIN:VEVENT
UID:8f15e12bba0fc40c76a3c328ff10d46479ef48a9
DTSTART:20250227T073000
DTEND:20250227T132000
SUMMARY:Nové trendy v Plzni, 27.2.2025
DESCRIPTION:
URL:https://jidelny.cz/detail-akce/nove-trendy-v-modernim-vareni-2025/
 nove-trendy-v-plzni-27-2-2025
DTSTAMP:20260421T082506Z
END:VEVENT
END:VCALENDAR
