BEGIN:VCALENDAR
VERSION:2.0
PRODID:-//Jidelny.cz//Kalendář událostí//EN
CALSCALE:GREGORIAN
METHOD:PUBLISH
BEGIN:VTIMEZONE
TZID:America/New_York
BEGIN:STANDARD
DTSTART:20251102T060000
TZOFFSETTO:-0500
TZOFFSETFROM:-0400
RRULE:FREQ=YEARLY;BYMONTH=11;BYDAY=1SU
END:STANDARD
BEGIN:DAYLIGHT
DTSTART:20250309T070000
TZOFFSETTO:-0400
TZOFFSETFROM:-0500
RRULE:FREQ=YEARLY;BYMONTH=3;BYDAY=2SU
END:DAYLIGHT
END:VTIMEZONE
BEGIN:VEVENT
UID:474554b06002569d3f52312dc21ef748d566a9d0
DTSTART:20250313T073000
DTEND:20250313T132000
SUMMARY:Nové trendy v Olomouci, 13.3.2025
DESCRIPTION:
URL:https://jidelny.cz/detail-akce/nove-trendy-v-modernim-vareni-2025/
 13-3-2025-olomouc-nove-trendy-v-modernim-vareni
DTSTAMP:20260421T084216Z
END:VEVENT
END:VCALENDAR
