BEGIN:VCALENDAR
VERSION:2.0
PRODID:-//Jidelny.cz//Kalendář událostí//EN
CALSCALE:GREGORIAN
METHOD:PUBLISH
BEGIN:VTIMEZONE
TZID:America/New_York
BEGIN:STANDARD
DTSTART:20251102T060000
TZOFFSETTO:-0500
TZOFFSETFROM:-0400
RRULE:FREQ=YEARLY;BYMONTH=11;BYDAY=1SU
END:STANDARD
BEGIN:DAYLIGHT
DTSTART:20250309T070000
TZOFFSETTO:-0400
TZOFFSETFROM:-0500
RRULE:FREQ=YEARLY;BYMONTH=3;BYDAY=2SU
END:DAYLIGHT
END:VTIMEZONE
BEGIN:VEVENT
UID:37173bd6cf6351854482637860f75d9cc56c5109
DTSTART:20250416T073000
DTEND:20250416T133500
SUMMARY:Jarní školení pro vedoucí školních jídelen v Brně
DESCRIPTION:
URL:https://jidelny.cz/detail-akce/jarni-skoleni-pro-vedouci-skolnich-
 jidelen/jarni-skoleni-pro-vedouci-skolnich-jidelen-v-brne
DTSTAMP:20260421T084216Z
END:VEVENT
END:VCALENDAR
