BEGIN:VCALENDAR
VERSION:2.0
PRODID:-//Jidelny.cz//Kalendář událostí//EN
CALSCALE:GREGORIAN
METHOD:PUBLISH
BEGIN:VTIMEZONE
TZID:America/New_York
BEGIN:STANDARD
DTSTART:20251102T060000
TZOFFSETTO:-0500
TZOFFSETFROM:-0400
RRULE:FREQ=YEARLY;BYMONTH=11;BYDAY=1SU
END:STANDARD
BEGIN:DAYLIGHT
DTSTART:20250309T070000
TZOFFSETTO:-0400
TZOFFSETFROM:-0500
RRULE:FREQ=YEARLY;BYMONTH=3;BYDAY=2SU
END:DAYLIGHT
END:VTIMEZONE
BEGIN:VEVENT
UID:1474aab3fb266554d883ddfa6b66d826f2ddc302
DTSTART:20250423T073000
DTEND:20250423T133500
SUMMARY:Jarní školení pro vedoucí školních jídelen v Praze
DESCRIPTION:
URL:https://jidelny.cz/detail-akce/jarni-skoleni-pro-vedouci-skolnich-
 jidelen/jarni-skoleni-pro-vedouci-skolnich-jidelen-v-praze
DTSTAMP:20260421T082503Z
END:VEVENT
END:VCALENDAR
