BEGIN:VCALENDAR
VERSION:2.0
PRODID:-//Jidelny.cz//Kalendář událostí//EN
CALSCALE:GREGORIAN
METHOD:PUBLISH
BEGIN:VTIMEZONE
TZID:America/New_York
BEGIN:STANDARD
DTSTART:20121104T060000
TZOFFSETTO:-0500
TZOFFSETFROM:-0400
RRULE:FREQ=YEARLY;BYMONTH=11;BYDAY=1SU
END:STANDARD
BEGIN:DAYLIGHT
DTSTART:20120311T070000
TZOFFSETTO:-0400
TZOFFSETFROM:-0500
RRULE:FREQ=YEARLY;BYMONTH=3;BYDAY=2SU
END:DAYLIGHT
END:VTIMEZONE
BEGIN:VEVENT
UID:abb26622cb5d8c46000bd71f05408a02d46bfcbd
DTSTART:20120308T070000
DTEND:20120308T130000
SUMMARY:Nové trendy v moderním vaření - 8.3.2012 Příbram
DESCRIPTION:
URL:https://jidelny.cz/detail-akce/nove-trendy-v-modernim-vareni-v/nov
 e-trendy-v-modernim-vareni-8-3-2012-pribram
DTSTAMP:20260421T084221Z
END:VEVENT
END:VCALENDAR
