BEGIN:VCALENDAR
VERSION:2.0
PRODID:-//Jidelny.cz//Kalendář událostí//EN
CALSCALE:GREGORIAN
METHOD:PUBLISH
BEGIN:VTIMEZONE
TZID:America/New_York
BEGIN:STANDARD
DTSTART:20121104T060000
TZOFFSETTO:-0500
TZOFFSETFROM:-0400
RRULE:FREQ=YEARLY;BYMONTH=11;BYDAY=1SU
END:STANDARD
BEGIN:DAYLIGHT
DTSTART:20120311T070000
TZOFFSETTO:-0400
TZOFFSETFROM:-0500
RRULE:FREQ=YEARLY;BYMONTH=3;BYDAY=2SU
END:DAYLIGHT
END:VTIMEZONE
BEGIN:VEVENT
UID:82590d7f48db4ddf7411e6d0690b59dd725064ba
DTSTART:20120417T080000
DTEND:20120417T134000
SUMMARY:Krajská konference - 17.4.2012 Olomouc
DESCRIPTION:
URL:https://jidelny.cz/detail-akce/krajske-konference-hromadneho-strav
 ovani-jaro-2012/krajska-konference-17-4-2012-olomouc
DTSTAMP:20260421T084218Z
END:VEVENT
END:VCALENDAR
