BEGIN:VCALENDAR
VERSION:2.0
PRODID:-//Jidelny.cz//Kalendář událostí//EN
CALSCALE:GREGORIAN
METHOD:PUBLISH
BEGIN:VTIMEZONE
TZID:America/New_York
BEGIN:STANDARD
DTSTART:20121104T060000
TZOFFSETTO:-0500
TZOFFSETFROM:-0400
RRULE:FREQ=YEARLY;BYMONTH=11;BYDAY=1SU
END:STANDARD
BEGIN:DAYLIGHT
DTSTART:20120311T070000
TZOFFSETTO:-0400
TZOFFSETFROM:-0500
RRULE:FREQ=YEARLY;BYMONTH=3;BYDAY=2SU
END:DAYLIGHT
END:VTIMEZONE
BEGIN:VEVENT
UID:1fbbb11d9286977f46dc8a65e074b2479170703a
DTSTART:20120522T084500
DTEND:20120522T140000
SUMMARY:Dietní systém a diety v domovech pro seniory a ústavech soc
 iální péče - 22.5.2012 Praha
DESCRIPTION:
URL:https://jidelny.cz/detail-akce/odborny-kurz-ustavniho-stravovani-2
 012/dietni-system-a-diety-v-domovech-pro-seniory-a-ustavech-socialni-p
 ece-22-5-2012-praha
DTSTAMP:20260421T084220Z
END:VEVENT
END:VCALENDAR
