BEGIN:VCALENDAR
VERSION:2.0
PRODID:-//Jidelny.cz//Kalendář událostí//EN
CALSCALE:GREGORIAN
METHOD:PUBLISH
BEGIN:VTIMEZONE
TZID:America/New_York
BEGIN:STANDARD
DTSTART:20121104T060000
TZOFFSETTO:-0500
TZOFFSETFROM:-0400
RRULE:FREQ=YEARLY;BYMONTH=11;BYDAY=1SU
END:STANDARD
BEGIN:DAYLIGHT
DTSTART:20120311T070000
TZOFFSETTO:-0400
TZOFFSETFROM:-0500
RRULE:FREQ=YEARLY;BYMONTH=3;BYDAY=2SU
END:DAYLIGHT
END:VTIMEZONE
BEGIN:VEVENT
UID:266b8e0a8f6fe12f561f5121e6e25de5c8a2da0e
DTSTART:20120523T084500
DTEND:20120523T140000
SUMMARY:Dietní systém a diety v domovech pro seniory a ústavech soc
 iální péče - 23.5.2012 Hradec Králové
DESCRIPTION:
URL:https://jidelny.cz/detail-akce/odborny-kurz-ustavniho-stravovani-2
 012/dietni-system-a-diety-v-domovech-pro-seniory-a-ustavech-socialni-p
 ece-23-5-2012-hradec-kralove
DTSTAMP:20260421T084217Z
END:VEVENT
END:VCALENDAR
