BEGIN:VCALENDAR
VERSION:2.0
PRODID:-//Jidelny.cz//Kalendář událostí//EN
CALSCALE:GREGORIAN
METHOD:PUBLISH
BEGIN:VTIMEZONE
TZID:America/New_York
BEGIN:STANDARD
DTSTART:20121104T060000
TZOFFSETTO:-0500
TZOFFSETFROM:-0400
RRULE:FREQ=YEARLY;BYMONTH=11;BYDAY=1SU
END:STANDARD
BEGIN:DAYLIGHT
DTSTART:20120311T070000
TZOFFSETTO:-0400
TZOFFSETFROM:-0500
RRULE:FREQ=YEARLY;BYMONTH=3;BYDAY=2SU
END:DAYLIGHT
END:VTIMEZONE
BEGIN:VEVENT
UID:f5221735e06786befd165d62bae3bcfba17f1d9e
DTSTART:20120530T084500
DTEND:20120530T140000
SUMMARY:Dietní systém a diety v domovech pro seniory a ústavech soc
 iální péče - 30.5.2012 Ústí nad Labem
DESCRIPTION:
URL:https://jidelny.cz/detail-akce/odborny-kurz-ustavniho-stravovani-2
 012/dietni-system-a-diety-v-domovech-pro-seniory-a-ustavech-socialni-p
 ece-30-5-2012-usti-nad-labem
DTSTAMP:20260421T084221Z
END:VEVENT
END:VCALENDAR
