BEGIN:VCALENDAR
VERSION:2.0
PRODID:-//Jidelny.cz//Kalendář událostí//EN
CALSCALE:GREGORIAN
METHOD:PUBLISH
BEGIN:VTIMEZONE
TZID:America/New_York
BEGIN:STANDARD
DTSTART:20121104T060000
TZOFFSETTO:-0500
TZOFFSETFROM:-0400
RRULE:FREQ=YEARLY;BYMONTH=11;BYDAY=1SU
END:STANDARD
BEGIN:DAYLIGHT
DTSTART:20120311T070000
TZOFFSETTO:-0400
TZOFFSETFROM:-0500
RRULE:FREQ=YEARLY;BYMONTH=3;BYDAY=2SU
END:DAYLIGHT
END:VTIMEZONE
BEGIN:VEVENT
UID:95ecb78218b2143ec1b29d8e16df58c7dca5aa14
DTSTART:20120613T083000
DTEND:20120613T130000
SUMMARY:Konferencia o školskom stravovaní - 13.6.2012 Banská Bystrica
DESCRIPTION:
URL:https://jidelny.cz/detail-akce/konferencia-o-skolskom-stravovani-p
 re-veducich-zamestnancov-zariadeni-skolskeho-stravovania/konferencia-o
 -skolskom-stravovani-13-6-2012-banska-bystrica
DTSTAMP:20260421T082506Z
END:VEVENT
END:VCALENDAR
