BEGIN:VCALENDAR
VERSION:2.0
PRODID:-//Jidelny.cz//Kalendář událostí//EN
CALSCALE:GREGORIAN
METHOD:PUBLISH
BEGIN:VTIMEZONE
TZID:America/New_York
BEGIN:STANDARD
DTSTART:20121104T060000
TZOFFSETTO:-0500
TZOFFSETFROM:-0400
RRULE:FREQ=YEARLY;BYMONTH=11;BYDAY=1SU
END:STANDARD
BEGIN:DAYLIGHT
DTSTART:20120311T070000
TZOFFSETTO:-0400
TZOFFSETFROM:-0500
RRULE:FREQ=YEARLY;BYMONTH=3;BYDAY=2SU
END:DAYLIGHT
END:VTIMEZONE
BEGIN:VEVENT
UID:0c823ac30fa197eb8c2f377553d467b19b403732
DTSTART:20120614T083000
DTEND:20120614T130000
SUMMARY:Konferencia o školskom stravovaní - 14.6.2012 Nitra
DESCRIPTION:
URL:https://jidelny.cz/detail-akce/konferencia-o-skolskom-stravovani-p
 re-veducich-zamestnancov-zariadeni-skolskeho-stravovania/konferencia-o
 -skolskom-stravovani-14-6-2012-nitra
DTSTAMP:20260421T082506Z
END:VEVENT
END:VCALENDAR
