BEGIN:VCALENDAR
VERSION:2.0
PRODID:-//Jidelny.cz//Kalendář událostí//EN
CALSCALE:GREGORIAN
METHOD:PUBLISH
BEGIN:VTIMEZONE
TZID:America/New_York
BEGIN:STANDARD
DTSTART:20131103T060000
TZOFFSETTO:-0500
TZOFFSETFROM:-0400
RRULE:FREQ=YEARLY;BYMONTH=11;BYDAY=1SU
END:STANDARD
BEGIN:DAYLIGHT
DTSTART:20130310T070000
TZOFFSETTO:-0400
TZOFFSETFROM:-0500
RRULE:FREQ=YEARLY;BYMONTH=3;BYDAY=2SU
END:DAYLIGHT
END:VTIMEZONE
BEGIN:VEVENT
UID:76bb044627b2cee72f8ac01a8f1d1632155e21e8
DTSTART:20130831T000000
DTEND:20130831T000000
SUMMARY:Krajská konference - Brno 2013
DESCRIPTION:
URL:https://jidelny.cz/detail-akce/krajske-konference-hromadneho-strav
 ovani-verejny-test/krajska-konference-brno-2013
DTSTAMP:20260421T082505Z
END:VEVENT
END:VCALENDAR
