BEGIN:VCALENDAR
VERSION:2.0
PRODID:-//Jidelny.cz//Kalendář událostí//EN
CALSCALE:GREGORIAN
METHOD:PUBLISH
BEGIN:VTIMEZONE
TZID:America/New_York
BEGIN:STANDARD
DTSTART:20131103T060000
TZOFFSETTO:-0500
TZOFFSETFROM:-0400
RRULE:FREQ=YEARLY;BYMONTH=11;BYDAY=1SU
END:STANDARD
BEGIN:DAYLIGHT
DTSTART:20130310T070000
TZOFFSETTO:-0400
TZOFFSETFROM:-0500
RRULE:FREQ=YEARLY;BYMONTH=3;BYDAY=2SU
END:DAYLIGHT
END:VTIMEZONE
BEGIN:VEVENT
UID:99827698fa12a064426d1206cc7503473093f18c
DTSTART:20130311T000000
DTEND:20130311T000000
SUMMARY:Hygienické minimum - 11.3.2013 Mladá Boleslav
DESCRIPTION:
URL:https://jidelny.cz/detail-akce/nove-trendy-v-modernim-vareni-vi/hy
 gienicke-minimum-11-3-2013-mlada-boleslav
DTSTAMP:20260421T082505Z
END:VEVENT
END:VCALENDAR
