BEGIN:VCALENDAR
VERSION:2.0
PRODID:-//Jidelny.cz//Kalendář událostí//EN
CALSCALE:GREGORIAN
METHOD:PUBLISH
BEGIN:VTIMEZONE
TZID:America/New_York
BEGIN:STANDARD
DTSTART:20131103T060000
TZOFFSETTO:-0500
TZOFFSETFROM:-0400
RRULE:FREQ=YEARLY;BYMONTH=11;BYDAY=1SU
END:STANDARD
BEGIN:DAYLIGHT
DTSTART:20130310T070000
TZOFFSETTO:-0400
TZOFFSETFROM:-0500
RRULE:FREQ=YEARLY;BYMONTH=3;BYDAY=2SU
END:DAYLIGHT
END:VTIMEZONE
BEGIN:VEVENT
UID:f3a1bfda3445abce1047b9850837f3611c606e64
DTSTART:20130919T000000
DTEND:20130919T000000
SUMMARY:Krajská konference - 19.9.2013 Karlovy Vary
DESCRIPTION:
URL:https://jidelny.cz/detail-akce/krajske-konference-hromadneho-strav
 ovani-podzim-2013/krajska-konference-19-9-2013-karlovy-vary
DTSTAMP:20260421T084218Z
END:VEVENT
END:VCALENDAR
