BEGIN:VCALENDAR
VERSION:2.0
PRODID:-//Jidelny.cz//Kalendář událostí//EN
CALSCALE:GREGORIAN
METHOD:PUBLISH
BEGIN:VTIMEZONE
TZID:America/New_York
BEGIN:STANDARD
DTSTART:20141102T060000
TZOFFSETTO:-0500
TZOFFSETFROM:-0400
RRULE:FREQ=YEARLY;BYMONTH=11;BYDAY=1SU
END:STANDARD
BEGIN:DAYLIGHT
DTSTART:20140309T070000
TZOFFSETTO:-0400
TZOFFSETFROM:-0500
RRULE:FREQ=YEARLY;BYMONTH=3;BYDAY=2SU
END:DAYLIGHT
END:VTIMEZONE
BEGIN:VEVENT
UID:c1230da01d9c686210839cc3545b3b43e280297c
DTSTART:20140206T070000
DTEND:20140206T140000
SUMMARY:Nové trendy v moderním vaření - 6.2.2014 Ústí nad Labem
DESCRIPTION:
URL:https://jidelny.cz/detail-akce/nove-trendy-v-modernim-vareni-vii/n
 ove-trendy-v-modernim-vareni-6-2-2014-usti-nad-labem
DTSTAMP:20260421T085849Z
END:VEVENT
END:VCALENDAR
