BEGIN:VCALENDAR
VERSION:2.0
PRODID:-//Jidelny.cz//Kalendář událostí//EN
CALSCALE:GREGORIAN
METHOD:PUBLISH
BEGIN:VTIMEZONE
TZID:America/New_York
BEGIN:STANDARD
DTSTART:20141102T060000
TZOFFSETTO:-0500
TZOFFSETFROM:-0400
RRULE:FREQ=YEARLY;BYMONTH=11;BYDAY=1SU
END:STANDARD
BEGIN:DAYLIGHT
DTSTART:20140309T070000
TZOFFSETTO:-0400
TZOFFSETFROM:-0500
RRULE:FREQ=YEARLY;BYMONTH=3;BYDAY=2SU
END:DAYLIGHT
END:VTIMEZONE
BEGIN:VEVENT
UID:9ff6ce92cb5f1c73ba9ec5baf4b87ee7b5b1b9af
DTSTART:20140218T070000
DTEND:20140218T140000
SUMMARY:Nové trendy v moderním vaření - 18.2.2014 Praha
DESCRIPTION:
URL:https://jidelny.cz/detail-akce/nove-trendy-v-modernim-vareni-vii/n
 ove-trendy-v-modernim-vareni-18-2-2014-praha
DTSTAMP:20260421T082507Z
END:VEVENT
END:VCALENDAR
