BEGIN:VCALENDAR
VERSION:2.0
PRODID:-//Jidelny.cz//Kalendář událostí//EN
CALSCALE:GREGORIAN
METHOD:PUBLISH
BEGIN:VTIMEZONE
TZID:America/New_York
BEGIN:STANDARD
DTSTART:20141102T060000
TZOFFSETTO:-0500
TZOFFSETFROM:-0400
RRULE:FREQ=YEARLY;BYMONTH=11;BYDAY=1SU
END:STANDARD
BEGIN:DAYLIGHT
DTSTART:20140309T070000
TZOFFSETTO:-0400
TZOFFSETFROM:-0500
RRULE:FREQ=YEARLY;BYMONTH=3;BYDAY=2SU
END:DAYLIGHT
END:VTIMEZONE
BEGIN:VEVENT
UID:b8ce7d8b246cce6610f4693dddbf7aa65cf938b9
DTSTART:20140218T000000
DTEND:20140218T000000
SUMMARY:seminář Hygienické minimum, 18.2.2014 Praha
DESCRIPTION:
URL:https://jidelny.cz/detail-akce/hygienicke-minimum-pro-kucharky-a-k
 uchare-2/seminar-hygienicke-minimum-18-2-2014-praha
DTSTAMP:20260421T084222Z
END:VEVENT
END:VCALENDAR
