BEGIN:VCALENDAR
VERSION:2.0
PRODID:-//Jidelny.cz//Kalendář událostí//EN
CALSCALE:GREGORIAN
METHOD:PUBLISH
BEGIN:VTIMEZONE
TZID:America/New_York
BEGIN:STANDARD
DTSTART:20141102T060000
TZOFFSETTO:-0500
TZOFFSETFROM:-0400
RRULE:FREQ=YEARLY;BYMONTH=11;BYDAY=1SU
END:STANDARD
BEGIN:DAYLIGHT
DTSTART:20140309T070000
TZOFFSETTO:-0400
TZOFFSETFROM:-0500
RRULE:FREQ=YEARLY;BYMONTH=3;BYDAY=2SU
END:DAYLIGHT
END:VTIMEZONE
BEGIN:VEVENT
UID:46c873dad53583d469421b0a984f81fb70acd411
DTSTART:20140901T000000
DTEND:20140901T000000
SUMMARY:Záznam Krajské konference
DESCRIPTION:
URL:https://jidelny.cz/detail-akce/elektronicky-kurz/zaznam-krajske-ko
 nference
DTSTAMP:20260421T084221Z
END:VEVENT
END:VCALENDAR
