BEGIN:VCALENDAR
VERSION:2.0
PRODID:-//Jidelny.cz//Kalendář událostí//EN
CALSCALE:GREGORIAN
METHOD:PUBLISH
BEGIN:VTIMEZONE
TZID:America/New_York
BEGIN:STANDARD
DTSTART:20151101T060000
TZOFFSETTO:-0500
TZOFFSETFROM:-0400
RRULE:FREQ=YEARLY;BYMONTH=11;BYDAY=1SU
END:STANDARD
BEGIN:DAYLIGHT
DTSTART:20150308T070000
TZOFFSETTO:-0400
TZOFFSETFROM:-0500
RRULE:FREQ=YEARLY;BYMONTH=3;BYDAY=2SU
END:DAYLIGHT
END:VTIMEZONE
BEGIN:VEVENT
UID:9f4e187273f3563d56a935c9394aa9d80aa9035c
DTSTART:20150210T000000
DTEND:20150210T000000
SUMMARY:Hygienické minimum 10.2.2015 Příbram
DESCRIPTION:
URL:https://jidelny.cz/detail-akce/hygienicke-minimum-pro-kucharky-a-k
 uchare-3/hygienicke-minimum-10-2-2015-pribram
DTSTAMP:20260421T082505Z
END:VEVENT
END:VCALENDAR
