BEGIN:VCALENDAR
VERSION:2.0
PRODID:-//Jidelny.cz//Kalendář událostí//EN
CALSCALE:GREGORIAN
METHOD:PUBLISH
BEGIN:VTIMEZONE
TZID:America/New_York
BEGIN:STANDARD
DTSTART:20151101T060000
TZOFFSETTO:-0500
TZOFFSETFROM:-0400
RRULE:FREQ=YEARLY;BYMONTH=11;BYDAY=1SU
END:STANDARD
BEGIN:DAYLIGHT
DTSTART:20150308T070000
TZOFFSETTO:-0400
TZOFFSETFROM:-0500
RRULE:FREQ=YEARLY;BYMONTH=3;BYDAY=2SU
END:DAYLIGHT
END:VTIMEZONE
BEGIN:VEVENT
UID:f3b491d3e48facf3013e19bd83c36a2c836f3dfa
DTSTART:20151021T000000
DTEND:20151021T000000
SUMMARY:Krajská konference hromadného stravování - Ústí nad Labe
 m 21.10.2015
DESCRIPTION:
URL:https://jidelny.cz/detail-akce/krajske-konference-hromadneho-strav
 ovani-podzim-2015/krajska-konference-hromadneho-stravovani-usti-nad-la
 bem-21-10-2015
DTSTAMP:20260421T084218Z
END:VEVENT
END:VCALENDAR
