BEGIN:VCALENDAR
VERSION:2.0
PRODID:-//Jidelny.cz//Kalendář událostí//EN
CALSCALE:GREGORIAN
METHOD:PUBLISH
BEGIN:VTIMEZONE
TZID:America/New_York
BEGIN:STANDARD
DTSTART:20161106T060000
TZOFFSETTO:-0500
TZOFFSETFROM:-0400
RRULE:FREQ=YEARLY;BYMONTH=11;BYDAY=1SU
END:STANDARD
BEGIN:DAYLIGHT
DTSTART:20160313T070000
TZOFFSETTO:-0400
TZOFFSETFROM:-0500
RRULE:FREQ=YEARLY;BYMONTH=3;BYDAY=2SU
END:DAYLIGHT
END:VTIMEZONE
BEGIN:VEVENT
UID:258ed8758a08eaa26e40f5deff631b18617bf6cc
DTSTART:20160225T000000
DTEND:20160225T000000
SUMMARY:Nové trendy v moderním vaření - 25.2.2016 České Budějovice
DESCRIPTION:
URL:https://jidelny.cz/detail-akce/nove-trendy-v-modernim-vareni-ix/no
 ve-trendy-v-modernim-vareni-25-2-2016-ceske-budejovice
DTSTAMP:20260421T082507Z
END:VEVENT
END:VCALENDAR
