BEGIN:VCALENDAR
VERSION:2.0
PRODID:-//Jidelny.cz//Kalendář událostí//EN
CALSCALE:GREGORIAN
METHOD:PUBLISH
BEGIN:VTIMEZONE
TZID:America/New_York
BEGIN:STANDARD
DTSTART:20181104T060000
TZOFFSETTO:-0500
TZOFFSETFROM:-0400
RRULE:FREQ=YEARLY;BYMONTH=11;BYDAY=1SU
END:STANDARD
BEGIN:DAYLIGHT
DTSTART:20180311T070000
TZOFFSETTO:-0400
TZOFFSETFROM:-0500
RRULE:FREQ=YEARLY;BYMONTH=3;BYDAY=2SU
END:DAYLIGHT
END:VTIMEZONE
BEGIN:VEVENT
UID:aff0da7d17ecb5b9c3df0e0167aca6365ebc57c7
DTSTART:20181017T080000
DTEND:20181017T150000
SUMMARY:Krajská konference hromadného stravování 17.10.2018 Olomouc
DESCRIPTION:
URL:https://jidelny.cz/detail-akce/krajske-konference-hromadneho-strav
 ovani-podzim-2018/krajska-konference-hromadneho-stravovani-17-10-2018-
 olomouc
DTSTAMP:20260421T084220Z
END:VEVENT
END:VCALENDAR
