BEGIN:VCALENDAR
VERSION:2.0
PRODID:-//Jidelny.cz//Kalendář událostí//EN
CALSCALE:GREGORIAN
METHOD:PUBLISH
BEGIN:VTIMEZONE
TZID:America/New_York
BEGIN:STANDARD
DTSTART:20201101T060000
TZOFFSETTO:-0500
TZOFFSETFROM:-0400
RRULE:FREQ=YEARLY;BYMONTH=11;BYDAY=1SU
END:STANDARD
BEGIN:DAYLIGHT
DTSTART:20200308T070000
TZOFFSETTO:-0400
TZOFFSETFROM:-0500
RRULE:FREQ=YEARLY;BYMONTH=3;BYDAY=2SU
END:DAYLIGHT
END:VTIMEZONE
BEGIN:VEVENT
UID:545830aefce6e908dc987b85ad22f658eb3b0865
DTSTART:20200609T093000
DTEND:20200609T100000
SUMMARY:Zařazení surovin do spotřebního koše - online konzultace 
 9.6.2020
DESCRIPTION:
URL:https://jidelny.cz/detail-akce/elektronicky-kurz/zarazeni-surovin-
 do-spotrebniho-kose-online-konzultace-9-6-2020
DTSTAMP:20260421T084221Z
END:VEVENT
END:VCALENDAR
