BEGIN:VCALENDAR
VERSION:2.0
PRODID:-//Jidelny.cz//Kalendář událostí//EN
CALSCALE:GREGORIAN
METHOD:PUBLISH
BEGIN:VTIMEZONE
TZID:America/New_York
BEGIN:STANDARD
DTSTART:20221106T060000
TZOFFSETTO:-0500
TZOFFSETFROM:-0400
RRULE:FREQ=YEARLY;BYMONTH=11;BYDAY=1SU
END:STANDARD
BEGIN:DAYLIGHT
DTSTART:20220313T070000
TZOFFSETTO:-0400
TZOFFSETFROM:-0500
RRULE:FREQ=YEARLY;BYMONTH=3;BYDAY=2SU
END:DAYLIGHT
END:VTIMEZONE
BEGIN:VEVENT
UID:54f1b1cdad8c306c2824353afdedb2f118e646e7
DTSTART:20221011T081500
DTEND:20221011T160000
SUMMARY:Krajská konference hromadného stravování 11.10.2022 Zlín
DESCRIPTION:
URL:https://jidelny.cz/detail-akce/krajske-konference-hromadneho-strav
 ovani-podzim-2022/krajska-konference-hromadneho-stravovani-11-10-2022-
 zlin
DTSTAMP:20260421T084222Z
END:VEVENT
END:VCALENDAR
